BEGIN:VCALENDAR
VERSION:2.0
PRODID:-//wp-events-plugin.com//7.2.3.1//EN
TZID:Europe/Madrid
X-WR-TIMEZONE:Europe/Madrid
BEGIN:VEVENT
UID:6-30@fiestas.motril.es
DTSTART;TZID=Europe/Madrid:20240123T000000
DTEND;TZID=Europe/Madrid:20240126T000000
DTSTAMP:20240123T095530Z
URL:https://fiestas.motril.es/eventos/eventos-fiestas/
SUMMARY:Eventos fiestas con cambio
DESCRIPTION:
CATEGORIES:Evento Fiestas
END:VEVENT
BEGIN:VTIMEZONE
TZID:Europe/Madrid
X-LIC-LOCATION:Europe/Madrid
BEGIN:STANDARD
DTSTART:20231029T020000
TZOFFSETFROM:+0200
TZOFFSETTO:+0100
TZNAME:CET
END:STANDARD
END:VTIMEZONE
END:VCALENDAR